BEGIN:VCALENDAR
PRODID:-//eluceo/ical//2.0/EN
VERSION:2.0
CALSCALE:GREGORIAN
BEGIN:VEVENT
UID:252cd936f1c8e471a27a19db828db7e9
DTSTAMP:20260425T102411Z
SUMMARY:Klassifikationsvortrag
DESCRIPTION:Orador(es): Rot. Alfons Curtins
URL:https://thun.rotary1990.ch/es/agenda/show/13441
DTSTART;TZID=Europe/Zurich:20100118T120000
DTEND;TZID=Europe/Zurich:20100118T120000
LOCATION:Restaurant Holiday
CATEGORIES:Rotary
END:VEVENT
BEGIN:VTIMEZONE
TZID:Europe/Zurich
BEGIN:STANDARD
DTSTART:20100118T120000
TZNAME:CET
TZOFFSETTO:+0100
TZOFFSETFROM:+0100
END:STANDARD
END:VTIMEZONE
END:VCALENDAR
